BEGIN:VCALENDAR
VERSION:2.0
PRODID:-//Mississippi Section - ECPv6.15.20//NONSGML v1.0//EN
CALSCALE:GREGORIAN
METHOD:PUBLISH
X-WR-CALNAME:Mississippi Section
X-ORIGINAL-URL:https://arrlmiss.org
X-WR-CALDESC:Events for Mississippi Section
REFRESH-INTERVAL;VALUE=DURATION:PT1H
X-Robots-Tag:noindex
X-PUBLISHED-TTL:PT1H
BEGIN:VTIMEZONE
TZID:America/Chicago
BEGIN:DAYLIGHT
TZOFFSETFROM:-0600
TZOFFSETTO:-0500
TZNAME:CDT
DTSTART:20250309T080000
END:DAYLIGHT
BEGIN:STANDARD
TZOFFSETFROM:-0500
TZOFFSETTO:-0600
TZNAME:CST
DTSTART:20251102T070000
END:STANDARD
BEGIN:DAYLIGHT
TZOFFSETFROM:-0600
TZOFFSETTO:-0500
TZNAME:CDT
DTSTART:20260308T080000
END:DAYLIGHT
BEGIN:STANDARD
TZOFFSETFROM:-0500
TZOFFSETTO:-0600
TZNAME:CST
DTSTART:20261101T070000
END:STANDARD
BEGIN:DAYLIGHT
TZOFFSETFROM:-0600
TZOFFSETTO:-0500
TZNAME:CDT
DTSTART:20270314T080000
END:DAYLIGHT
BEGIN:STANDARD
TZOFFSETFROM:-0500
TZOFFSETTO:-0600
TZNAME:CST
DTSTART:20271107T070000
END:STANDARD
END:VTIMEZONE
BEGIN:VEVENT
DTSTART;TZID=America/Chicago:20260320T080000
DTEND;TZID=America/Chicago:20260321T140000
DTSTAMP:20260420T213759
CREATED:20240801T173935Z
LAST-MODIFIED:20251113T195545Z
UID:1236-1773993600-1774101600@arrlmiss.org
SUMMARY:Jackson County Hamfest
DESCRIPTION:Please visit https://jcmsara.org/hamfest/ for more details as the event get closer. \nIf you have any questions please send them to club vice president Charlie Hardt\, N2PKW or jchamfest@gmail.com  \nStart/end times approximate at this time. Updates to be posted as more info is provided.
URL:https://arrlmiss.org/event/jackson-county-hamfest/
LOCATION:St. Martin Community Center\, 15008 Lemoyne Blvd\, Biloxi\, United States
ORGANIZER;CN="Jackson County ARA":MAILTO:JCARA.Treasurer@gmail.com
END:VEVENT
END:VCALENDAR