BEGIN:VCALENDAR
VERSION:2.0
PRODID:-//Mississippi Section - ECPv6.15.20//NONSGML v1.0//EN
CALSCALE:GREGORIAN
METHOD:PUBLISH
X-ORIGINAL-URL:https://arrlmiss.org
X-WR-CALDESC:Events for Mississippi Section
REFRESH-INTERVAL;VALUE=DURATION:PT1H
X-Robots-Tag:noindex
X-PUBLISHED-TTL:PT1H
BEGIN:VTIMEZONE
TZID:America/Chicago
BEGIN:DAYLIGHT
TZOFFSETFROM:-0600
TZOFFSETTO:-0500
TZNAME:CDT
DTSTART:20250309T080000
END:DAYLIGHT
BEGIN:STANDARD
TZOFFSETFROM:-0500
TZOFFSETTO:-0600
TZNAME:CST
DTSTART:20251102T070000
END:STANDARD
BEGIN:DAYLIGHT
TZOFFSETFROM:-0600
TZOFFSETTO:-0500
TZNAME:CDT
DTSTART:20260308T080000
END:DAYLIGHT
BEGIN:STANDARD
TZOFFSETFROM:-0500
TZOFFSETTO:-0600
TZNAME:CST
DTSTART:20261101T070000
END:STANDARD
BEGIN:DAYLIGHT
TZOFFSETFROM:-0600
TZOFFSETTO:-0500
TZNAME:CDT
DTSTART:20270314T080000
END:DAYLIGHT
BEGIN:STANDARD
TZOFFSETFROM:-0500
TZOFFSETTO:-0600
TZNAME:CST
DTSTART:20271107T070000
END:STANDARD
END:VTIMEZONE
BEGIN:VEVENT
DTSTART;TZID=America/Chicago:20260404T090000
DTEND;TZID=America/Chicago:20260404T210000
DTSTAMP:20260420T195822
CREATED:20231013T152118Z
LAST-MODIFIED:20260130T202439Z
UID:615-1775293200-1775336400@arrlmiss.org
SUMMARY:2026 Mississippi QSO Party
DESCRIPTION:The Mississippi QSO Party (MSQP) is held the first weekend of April each year. The 12 hour event encourages ALL Mississippi hams to get on the air handing out Mississippi QSOs to hams around the world. This is also an excellent event for county hunters since many participants will operate mobile or portable from rare counties around the state. High scoring participants in each category will receive a beautiful solid wooden plaque recognizing their accomplishment. \n2026 MSQP Dates April 4 2026 9am-9pm Central Time (1400 April 4 – 0200 April 5 UTC)
URL:https://arrlmiss.org/event/2024-mississippi-qso-party/
LOCATION:On-Air
CATEGORIES:Operating Events
ORGANIZER;CN="Malcolm%2C W5XX":MAILTO:w5xx@cablelynx.com
END:VEVENT
END:VCALENDAR