BEGIN:VCALENDAR
VERSION:2.0
PRODID:-//Mississippi Section - ECPv6.15.20//NONSGML v1.0//EN
CALSCALE:GREGORIAN
METHOD:PUBLISH
X-WR-CALNAME:Mississippi Section
X-ORIGINAL-URL:https://arrlmiss.org
X-WR-CALDESC:Events for Mississippi Section
REFRESH-INTERVAL;VALUE=DURATION:PT1H
X-Robots-Tag:noindex
X-PUBLISHED-TTL:PT1H
BEGIN:VTIMEZONE
TZID:America/Chicago
BEGIN:DAYLIGHT
TZOFFSETFROM:-0600
TZOFFSETTO:-0500
TZNAME:CDT
DTSTART:20250309T080000
END:DAYLIGHT
BEGIN:STANDARD
TZOFFSETFROM:-0500
TZOFFSETTO:-0600
TZNAME:CST
DTSTART:20251102T070000
END:STANDARD
BEGIN:DAYLIGHT
TZOFFSETFROM:-0600
TZOFFSETTO:-0500
TZNAME:CDT
DTSTART:20260308T080000
END:DAYLIGHT
BEGIN:STANDARD
TZOFFSETFROM:-0500
TZOFFSETTO:-0600
TZNAME:CST
DTSTART:20261101T070000
END:STANDARD
BEGIN:DAYLIGHT
TZOFFSETFROM:-0600
TZOFFSETTO:-0500
TZNAME:CDT
DTSTART:20270314T080000
END:DAYLIGHT
BEGIN:STANDARD
TZOFFSETFROM:-0500
TZOFFSETTO:-0600
TZNAME:CST
DTSTART:20271107T070000
END:STANDARD
END:VTIMEZONE
BEGIN:VTIMEZONE
TZID:UTC
BEGIN:STANDARD
TZOFFSETFROM:+0000
TZOFFSETTO:+0000
TZNAME:UTC
DTSTART:20250101T000000
END:STANDARD
END:VTIMEZONE
BEGIN:VEVENT
DTSTART;TZID=America/Chicago:20260507T180000
DTEND;TZID=America/Chicago:20260507T190000
DTSTAMP:20260421T042846
CREATED:20231018T143043Z
LAST-MODIFIED:20260420T163844Z
UID:625-1778176800-1778180400@arrlmiss.org
SUMMARY:Monthly EMCOMM Checkin on 3.862MHz
DESCRIPTION:This net meets on the 1st Thursday of each month. All Mississippi Hams are invited to checkin and participate.
URL:https://arrlmiss.org/event/monthly-emcomm-checkin-on-3-862mhz/
LOCATION:On-Air 3.862Mhz
END:VEVENT
BEGIN:VEVENT
DTSTART;TZID=America/Chicago:20260627T130000
DTEND;TZID=America/Chicago:20260628T130000
DTSTAMP:20260421T042846
CREATED:20240516T195616Z
LAST-MODIFIED:20260420T164402Z
UID:1164-1782565200-1782651600@arrlmiss.org
SUMMARY:ARRL Field Day
DESCRIPTION:Every June\, more than 40\,000 hams throughout North America set up temporary transmitting stations in public places to demonstrate ham radio’s science\, skill and service to our communities and our nation. It combines public service\, emergency preparedness\, community outreach\, and technical skills all in a single event. Field Day has been an annual event since 1933\, and remains the most popular event in ham radio. \nMany groups in Mississippi will be hosting public Field Day Operations. Use the ARRL Field Day locator tool to find one near you and join in the fun!!
URL:https://arrlmiss.org/event/arrl-field-day/
END:VEVENT
BEGIN:VEVENT
DTSTART;VALUE=DATE:20261118
DTEND;VALUE=DATE:20261125
DTSTAMP:20260421T042846
CREATED:20231002T201647Z
LAST-MODIFIED:20260420T164259Z
UID:485-1794960000-1795564799@arrlmiss.org
SUMMARY:W1AW/5 Year of the Club Operation from Mississippi
DESCRIPTION:On July 4\, 2026\, our nation will commemorate the 250th anniversary of the signing of the Declaration of Independence. The ARRL will support the 2026 yearlong celebration by sponsoring the Worked All States 250 Award (WAS250)( page 76 January QST). During the year W1AW portable will twice visit all 50 states. Mississippi’s turn will be April 1-7\, 2026\, and November 18-24\, 2026. W5UE will be coordinating the activity and can be reached at w5ue@arrl.net. This will be very similar to the 2023 Volunteers on The Air (VOTA) operating event that many of you may have participated in. This is your chance to again be W1AW/5 from your home station. ALL Mississippi Amateurs are encouraged to participate. 
URL:https://arrlmiss.org/event/w1aw-5-vota-operation-from-mississippi/
CATEGORIES:Operating Events
ORGANIZER;CN="Randy Becnel - W5UE":MAILTO:w5ue@w5ue.net
END:VEVENT
END:VCALENDAR