BEGIN:VCALENDAR
VERSION:2.0
PRODID:-//Mississippi Section - ECPv6.15.20//NONSGML v1.0//EN
CALSCALE:GREGORIAN
METHOD:PUBLISH
X-ORIGINAL-URL:https://arrlmiss.org
X-WR-CALDESC:Events for Mississippi Section
REFRESH-INTERVAL;VALUE=DURATION:PT1H
X-Robots-Tag:noindex
X-PUBLISHED-TTL:PT1H
BEGIN:VTIMEZONE
TZID:America/Chicago
BEGIN:DAYLIGHT
TZOFFSETFROM:-0600
TZOFFSETTO:-0500
TZNAME:CDT
DTSTART:20240310T080000
END:DAYLIGHT
BEGIN:STANDARD
TZOFFSETFROM:-0500
TZOFFSETTO:-0600
TZNAME:CST
DTSTART:20241103T070000
END:STANDARD
BEGIN:DAYLIGHT
TZOFFSETFROM:-0600
TZOFFSETTO:-0500
TZNAME:CDT
DTSTART:20250309T080000
END:DAYLIGHT
BEGIN:STANDARD
TZOFFSETFROM:-0500
TZOFFSETTO:-0600
TZNAME:CST
DTSTART:20251102T070000
END:STANDARD
BEGIN:DAYLIGHT
TZOFFSETFROM:-0600
TZOFFSETTO:-0500
TZNAME:CDT
DTSTART:20260308T080000
END:DAYLIGHT
BEGIN:STANDARD
TZOFFSETFROM:-0500
TZOFFSETTO:-0600
TZNAME:CST
DTSTART:20261101T070000
END:STANDARD
END:VTIMEZONE
BEGIN:VEVENT
DTSTART;TZID=America/Chicago:20251018T080000
DTEND;TZID=America/Chicago:20251018T140000
DTSTAMP:20260421T045523
CREATED:20231030T191522Z
LAST-MODIFIED:20250917T152858Z
UID:860-1760774400-1760796000@arrlmiss.org
SUMMARY:Papa Jack Trade Day - Pontotoc
DESCRIPTION:The Tupelo Amateur Radio Club will host its annual Papa Jack Trade Day\non Saturday\, Oct 18 from 8 am until 2pm. This will be at\nthe Tanglefoot Trail Pavilion on 139 West Reynolds Street in\nPontotoc. All vendors are welcome to set up for the sale or trade of\nHam related items. For more info contact WJ5K at wj5k@yahoo.com
URL:https://arrlmiss.org/event/papa-jack-trade-day/
LOCATION:Tanglefoot Trail Pavilion\, 139 West Reynolds Street\, Ponotoc\, United States
END:VEVENT
BEGIN:VEVENT
DTSTART;TZID=America/Chicago:20251018T090000
DTEND;TZID=America/Chicago:20251018T140000
DTSTAMP:20260421T045523
CREATED:20231002T194510Z
LAST-MODIFIED:20251014T145253Z
UID:478-1760778000-1760796000@arrlmiss.org
SUMMARY:ARRL Day in the Park
DESCRIPTION:The Jackson ARC invites you to this year’s ARRL Day in the Park Saturday October 18\, 2025 from 9:00 am until 2:00 pm at Old Trace Park.  The folks at Ridgeland Parks and Recreation graciously allowed us to use their Recreation Center adjacent to the main parking lot. This will be a fun time of fellowship and food (Dutch Treat from Food Truck).   At noon there will be a few comments by W5XX followed by multiple door prizes. In addition\, Flea Market tables will be available\, or you can tailgate in the parking lot.  For those interested\, the Mississippi State Fair will be open for “after Day in the Park fun and games.” \nOld Trace Park is located at 422 Post Road in Ridgeland. Parking Gate code of\n0123#. To get there follow the signs to the Bill Waller Craft Center on Rice Road and then continue on Rice Road a short distance until you get to a stop sign at the intersection with Post Road.  Take a right on Post Road and Old Trace Park will then be the second right.  The Rec Center will be on the right side of the large parking lot as you drive in.  For further information contact AK5J at cell 601-709-6740 or email ak5j@arrl.net.    Talk-In: 146.64 (77 Hz) linked to 146.76 (77 Hz)
URL:https://arrlmiss.org/event/arrl-day-in-the-park/
LOCATION:Old Trace Park\, 422 Post Road\, Ricdgeland\, MS\, 39157\, United States
ORGANIZER;CN="Jackson Amateur Radio Club":MAILTO:hamfest@msham.org
END:VEVENT
END:VCALENDAR